BEGIN:VCALENDAR
VERSION:2.0
PRODID:-//Library Market//iCal Export//EN
BEGIN:VEVENT
SUMMARY:Book Sale
UID:798
DTSTAMP:20260420T032700Z
DTSTART:20260501T050000Z
DTEND:20260509T050000Z
LOCATION:Powers Memorial Library, 115 W Main St, Palmyra, WI 53156, United
  States
ROOM: Book Sale
DESCRIPTION:The Friends of the Library Booksale will run from Friday, May 
 1 - Saturday, May 9. Open during library hours.
URL:https://powerslib.librarycalendar.com/event/book-sale-798
END:VEVENT
END:VCALENDAR
